BEGIN:VCALENDAR
VERSION:2.0
X-WR-CALNAME:WEBINAR | Zmiany składnikowe od 1 maja 2026 – co musisz wiedzieć?
METHOD:PUBLISH
PRODID:-//hacksw/handcal//NONSGML v1.0//EN
BEGIN:VEVENT
TRANSP:OPAQUE
DTEND:20260506T090000Z
DTSTART:20260506T090000Z
UID:biotechnologia_wydarzenia_3763
DTSTAMP:20260506T090000Z
LOCATION:Webinar
DESCRIPTION:http://biotechnologia.pl/kalendarium/kosmetologia/webinar-zmiany-skladnikowe-od-1-maja-2026-co-musisz-wiedziec,3763
URL;VALUE=URI:http://biotechnologia.pl/kalendarium/kosmetologia/webinar-zmiany-skladnikowe-od-1-maja-2026-co-musisz-wiedziec,3763
SEQUENCE:1
SUMMARY:WEBINAR | Zmiany składnikowe od 1 maja 2026 – co musisz wiedzieć?
LAST-MODIFIED:20260415T090000Z
CREATED:20260415T090000Z
END:VEVENT
END:VCALENDAR