BEGIN:VCALENDAR
VERSION:2.0
X-WR-CALNAME:Webinar online: Woda do wstrzykiwań
METHOD:PUBLISH
PRODID:-//hacksw/handcal//NONSGML v1.0//EN
BEGIN:VEVENT
TRANSP:OPAQUE
DTEND:20260603T090000Z
DTSTART:20260603T090000Z
UID:biotechnologia_wydarzenia_3770
DTSTAMP:20260603T090000Z
LOCATION:Online
DESCRIPTION:http://biotechnologia.pl/kalendarium/farmacja/webinar-online-woda-do-wstrzykiwan,3770
URL;VALUE=URI:http://biotechnologia.pl/kalendarium/farmacja/webinar-online-woda-do-wstrzykiwan,3770
SEQUENCE:1
SUMMARY:Webinar online: Woda do wstrzykiwań
LAST-MODIFIED:20260421T090000Z
CREATED:20260421T090000Z
END:VEVENT
END:VCALENDAR