BEGIN:VCALENDAR
VERSION:2.0
X-WR-CALNAME:Webinar online: ISO 8655: Kalibracja i testowanie pipet
METHOD:PUBLISH
PRODID:-//hacksw/handcal//NONSGML v1.0//EN
BEGIN:VEVENT
TRANSP:OPAQUE
DTEND:20260521T090000Z
DTSTART:20260521T090000Z
UID:biotechnologia_wydarzenia_3768
DTSTAMP:20260521T090000Z
LOCATION:Online
DESCRIPTION:http://biotechnologia.pl/kalendarium/farmacja/webinar-online-iso-8655-kalibracja-i-testowanie-pipet,3768
URL;VALUE=URI:http://biotechnologia.pl/kalendarium/farmacja/webinar-online-iso-8655-kalibracja-i-testowanie-pipet,3768
SEQUENCE:1
SUMMARY:Webinar online: ISO 8655: Kalibracja i testowanie pipet
LAST-MODIFIED:20260421T090000Z
CREATED:20260421T090000Z
END:VEVENT
END:VCALENDAR