BEGIN:VCALENDAR
VERSION:2.0
X-WR-CALNAME:Warsaw Course on Cardiovascular Intervention (WCCI)
METHOD:PUBLISH
PRODID:-//hacksw/handcal//NONSGML v1.0//EN
BEGIN:VEVENT
TRANSP:OPAQUE
DTEND:20260424T090000Z
DTSTART:20260423T090000Z
UID:biotechnologia_wydarzenia_3766
DTSTAMP:20260423T090000Z
LOCATION:Warszawa
DESCRIPTION:http://biotechnologia.pl/kalendarium/farmacja/warsaw-course-on-cardiovascular-intervention-wcci,3766
URL;VALUE=URI:http://biotechnologia.pl/kalendarium/farmacja/warsaw-course-on-cardiovascular-intervention-wcci,3766
SEQUENCE:1
SUMMARY:Warsaw Course on Cardiovascular Intervention (WCCI)
LAST-MODIFIED:20260420T090000Z
CREATED:20260420T090000Z
END:VEVENT
END:VCALENDAR