BEGIN:VCALENDAR
VERSION:2.0
X-WR-CALNAME:Seria webinarów online: Światowe Dni metrologii
METHOD:PUBLISH
PRODID:-//hacksw/handcal//NONSGML v1.0//EN
BEGIN:VEVENT
TRANSP:OPAQUE
DTEND:20260512T090000Z
DTSTART:20260511T090000Z
UID:biotechnologia_wydarzenia_3767
DTSTAMP:20260511T090000Z
LOCATION:Online
DESCRIPTION:http://biotechnologia.pl/kalendarium/farmacja/seria-webinarow-online-swiatowe-dni-metrologii,3767
URL;VALUE=URI:http://biotechnologia.pl/kalendarium/farmacja/seria-webinarow-online-swiatowe-dni-metrologii,3767
SEQUENCE:1
SUMMARY:Seria webinarów online: Światowe Dni metrologii
LAST-MODIFIED:20260420T090000Z
CREATED:20260420T090000Z
END:VEVENT
END:VCALENDAR